BEGIN:VCALENDAR
VERSION:2.0
PRODID:-//Platinum - ECPv4.6.10.1//NONSGML v1.0//EN
CALSCALE:GREGORIAN
METHOD:PUBLISH
X-WR-CALNAME:Platinum
X-ORIGINAL-URL:http://platinumsafety.com.au
X-WR-CALDESC:Events for Platinum
BEGIN:VEVENT
DTSTART;TZID=UTC+0:20180323T073000
DTEND;TZID=UTC+0:20180323T143000
DTSTAMP:20180225T072633
CREATED:20180210T233940Z
LAST-MODIFIED:20180215T215925Z
UID:496-1521790200-1521815400@platinumsafety.com.au
SUMMARY:RIIWHS204D Work safely at heights - Individual training (Public course)
DESCRIPTION:This unit of competency will give workers the skills and knowledge to determine working at heights situations\, legislative requirements\, basic hazard and risk analysis\, tools\, equipment and safe systems of work to complete tasks at height. Platinum Safety and Training is your professional provider of a working at heights course in Sydney\, helping you to perform work with the necessary knowledge you need to stay safe. \nView full details here: RIIWHS204D Work safely at heights \n
URL:http://platinumsafety.com.au/event/working-at-heights/
LOCATION:150 Old Bathurst Road\, Emu Plains\, New South Wales\, 2750\, Australia
CATEGORIES:Work Safely at Heights
ATTACH;FMTTYPE=image/jpeg:http://platinumsafety.com.au/wp-content/uploads/2017/08/shutterstock_359656328-Medium.jpg
ORGANIZER;CN="Platinum%20Safety":MAILTO:info@platinumsafety.com.au
END:VEVENT
END:VCALENDAR